BEGIN:VCALENDAR
VERSION:2.0
PRODID:-//sebbo.net//ical-generator//EN
NAME:Eisenhower Elementary Lunch Menu
X-WR-CALNAME:Eisenhower Elementary Lunch Menu
TIMEZONE-ID:America/Chicago
X-WR-TIMEZONE:America/Chicago
REFRESH-INTERVAL;VALUE=DURATION:P7D
X-PUBLISHED-TTL:P7D
BEGIN:VEVENT
UID:2d97689e-b9e3-43e7-81b3-d93f47ee791d
SEQUENCE:0
DTSTAMP:20260420T084239
DTSTART;VALUE=DATE:20260420
X-MICROSOFT-CDO-ALLDAYEVENT:TRUE
X-MICROSOFT-MSNCALENDAR-ALLDAYEVENT:TRUE
SUMMARY:Lunch Menu
DESCRIPTION:Grilled Cheese Sandwich<br/>Tomato Basil Soup<br/>Broccoli<br/
 ><br/><b>Alternate:</b><br/>Cooks Choice - Veggie 
END:VEVENT
BEGIN:VEVENT
UID:1a1dc690-6a15-4486-8a22-edb11b241ff5
SEQUENCE:0
DTSTAMP:20260420T084239
DTSTART;VALUE=DATE:20260421
X-MICROSOFT-CDO-ALLDAYEVENT:TRUE
X-MICROSOFT-MSNCALENDAR-ALLDAYEVENT:TRUE
SUMMARY:Lunch Menu
DESCRIPTION:Beef Burrito<br/>Taco Fixings  ELEM<br/>Black Beans<br/><br/><
 b>Alternate:</b><br/>Chicken Caesar Wrap\, Elem<br/>Twin Cheese Sandwich
END:VEVENT
BEGIN:VEVENT
UID:c45e8ec4-dc8a-401b-8da2-1497a5dc1723
SEQUENCE:0
DTSTAMP:20260420T084239
DTSTART;VALUE=DATE:20260422
X-MICROSOFT-CDO-ALLDAYEVENT:TRUE
X-MICROSOFT-MSNCALENDAR-ALLDAYEVENT:TRUE
SUMMARY:Lunch Menu
DESCRIPTION:Crispy Chicken Sandwich<br/>Cucumber Slices<br/><br/><b>Altern
 ate:</b><br/>Chicken Caesar Wrap\, Elem<br/>Twin Cheese Sandwich
END:VEVENT
BEGIN:VEVENT
UID:8fb13de6-a517-475a-8e4d-585ba5a62da7
SEQUENCE:0
DTSTAMP:20260420T084239
DTSTART;VALUE=DATE:20260423
X-MICROSOFT-CDO-ALLDAYEVENT:TRUE
X-MICROSOFT-MSNCALENDAR-ALLDAYEVENT:TRUE
SUMMARY:Lunch Menu
DESCRIPTION:Edamame<br/>Cook's Choice Lunch<br/><br/><b>Alternate:</b><br/
 >Chicken Caesar Wrap\, Elem<br/>Twin Cheese Sandwich
END:VEVENT
BEGIN:VEVENT
UID:33d0bde7-80d3-42f4-b8e1-d4180e8a13af
SEQUENCE:0
DTSTAMP:20260420T084239
DTSTART;VALUE=DATE:20260424
X-MICROSOFT-CDO-ALLDAYEVENT:TRUE
X-MICROSOFT-MSNCALENDAR-ALLDAYEVENT:TRUE
SUMMARY:Lunch Menu
DESCRIPTION:Sloppy Joes<br/>Corn<br/><br/><b>Alternate:</b><br/>Chicken Ca
 esar Wrap\, Elem<br/>Twin Cheese Sandwich
END:VEVENT
BEGIN:VEVENT
UID:ee6996c2-ede6-4c51-8596-3544ff394ceb
SEQUENCE:0
DTSTAMP:20260420T084239
DTSTART;VALUE=DATE:20260427
X-MICROSOFT-CDO-ALLDAYEVENT:TRUE
X-MICROSOFT-MSNCALENDAR-ALLDAYEVENT:TRUE
SUMMARY:Lunch Menu
DESCRIPTION:Four Cheese Tortellini<br/>Garlic Breadstick<br/>Italian Side 
 Salad<br/><br/><b>Alternate:</b><br/>Cooks Choice - Veggie 
END:VEVENT
BEGIN:VEVENT
UID:95943391-711c-4dbc-9602-72715de36563
SEQUENCE:0
DTSTAMP:20260420T084239
DTSTART;VALUE=DATE:20260428
X-MICROSOFT-CDO-ALLDAYEVENT:TRUE
X-MICROSOFT-MSNCALENDAR-ALLDAYEVENT:TRUE
SUMMARY:Lunch Menu
DESCRIPTION:Teriyaki Chicken Drumstick<br/>Brown Rice<br/>Green Beans<br/>
 <br/><b>Alternate:</b><br/>Egg Salad Sandwich<br/>Turkey & Cheese Sandwich
END:VEVENT
BEGIN:VEVENT
UID:c749d055-c50d-4c0b-b4d2-5bd863d7dbba
SEQUENCE:0
DTSTAMP:20260420T084239
DTSTART;VALUE=DATE:20260429
X-MICROSOFT-CDO-ALLDAYEVENT:TRUE
X-MICROSOFT-MSNCALENDAR-ALLDAYEVENT:TRUE
SUMMARY:Lunch Menu
DESCRIPTION:Fish Nuggets<br/>Dinner Roll<br/>Green Peas<br/><br/><b>Altern
 ate:</b><br/>Egg Salad Sandwich<br/>Turkey & Cheese Sandwich
END:VEVENT
BEGIN:VEVENT
UID:d94f9fa1-92f9-4672-aae2-60ec28d6cff5
SEQUENCE:0
DTSTAMP:20260420T084239
DTSTART;VALUE=DATE:20260430
X-MICROSOFT-CDO-ALLDAYEVENT:TRUE
X-MICROSOFT-MSNCALENDAR-ALLDAYEVENT:TRUE
SUMMARY:Lunch Menu
DESCRIPTION:Beef & Broccoli<br/>Brown Rice<br/>Edamame<br/><br/><b>Alterna
 te:</b><br/>Egg Salad Sandwich<br/>Turkey & Cheese Sandwich
END:VEVENT
BEGIN:VEVENT
UID:e9430c6e-cb9d-4dcb-904c-2f815c2667f6
SEQUENCE:0
DTSTAMP:20260420T084239
DTSTART;VALUE=DATE:20260501
X-MICROSOFT-CDO-ALLDAYEVENT:TRUE
X-MICROSOFT-MSNCALENDAR-ALLDAYEVENT:TRUE
SUMMARY:Lunch Menu
DESCRIPTION:Chicken Corndog<br/>Sweet Potato Waffle Fries<br/><br/><b>Alte
 rnate:</b><br/>Egg Salad Sandwich<br/>Turkey & Cheese Sandwich
END:VEVENT
BEGIN:VEVENT
UID:d6f2b1fd-b94c-43a6-94c2-b656fd4d9ae2
SEQUENCE:0
DTSTAMP:20260420T084239
DTSTART;VALUE=DATE:20260504
X-MICROSOFT-CDO-ALLDAYEVENT:TRUE
X-MICROSOFT-MSNCALENDAR-ALLDAYEVENT:TRUE
SUMMARY:Lunch Menu
DESCRIPTION:Cheese Pizza<br/>Turkey Pepperoni Pizza<br/>Tossed Salad<br/><
 br/><b>Alternate:</b><br/>Cooks Choice - Veggie 
END:VEVENT
BEGIN:VEVENT
UID:437419a3-a5b9-4b8c-aa5a-bfb39d0fd015
SEQUENCE:0
DTSTAMP:20260420T084239
DTSTART;VALUE=DATE:20260505
X-MICROSOFT-CDO-ALLDAYEVENT:TRUE
X-MICROSOFT-MSNCALENDAR-ALLDAYEVENT:TRUE
SUMMARY:Lunch Menu
DESCRIPTION:Chicken Nachos<br/>Red Peppers<br/><br/><b>Alternate:</b><br/>
 Ham & Cheese Sandwich<br/>Sunbutter Sandwich
END:VEVENT
BEGIN:VEVENT
UID:751ee053-2517-45f4-8ac1-49e95cb5ea22
SEQUENCE:0
DTSTAMP:20260420T084239
DTSTART;VALUE=DATE:20260506
X-MICROSOFT-CDO-ALLDAYEVENT:TRUE
X-MICROSOFT-MSNCALENDAR-ALLDAYEVENT:TRUE
SUMMARY:Lunch Menu
DESCRIPTION:Beef Tater Tot Hotdish<br/>Dinner Roll<br/>Celery Sticks<br/><
 br/><b>Alternate:</b><br/>Ham & Cheese Sandwich<br/>Sunbutter Sandwich
END:VEVENT
BEGIN:VEVENT
UID:61142ab8-a955-4f51-a3d6-16d92bdbb06a
SEQUENCE:0
DTSTAMP:20260420T084239
DTSTART;VALUE=DATE:20260507
X-MICROSOFT-CDO-ALLDAYEVENT:TRUE
X-MICROSOFT-MSNCALENDAR-ALLDAYEVENT:TRUE
SUMMARY:Lunch Menu
DESCRIPTION:Shredded Beef Tamales<br/>pinto beans<br/><br/><b>Alternate:</
 b><br/>Ham & Cheese Sandwich<br/>Sunbutter Sandwich
END:VEVENT
BEGIN:VEVENT
UID:41e554b4-cc91-410b-ad08-2cd2869efd7c
SEQUENCE:0
DTSTAMP:20260420T084239
DTSTART;VALUE=DATE:20260508
X-MICROSOFT-CDO-ALLDAYEVENT:TRUE
X-MICROSOFT-MSNCALENDAR-ALLDAYEVENT:TRUE
SUMMARY:Lunch Menu
DESCRIPTION:Hamburger on Bun<br/>Cheeseburger on Bun<br/>Potato Wedges<br/
 ><br/><b>Alternate:</b><br/>Ham & Cheese Sandwich<br/>Sunbutter Sandwich
END:VEVENT
BEGIN:VEVENT
UID:abd48247-4167-4d6d-a7e3-3263da331521
SEQUENCE:0
DTSTAMP:20260420T084239
DTSTART;VALUE=DATE:20260511
X-MICROSOFT-CDO-ALLDAYEVENT:TRUE
X-MICROSOFT-MSNCALENDAR-ALLDAYEVENT:TRUE
SUMMARY:Lunch Menu
DESCRIPTION:Grilled Cheese Sandwich<br/>Tomato Basil Soup<br/>Broccoli<br/
 ><br/><b>Alternate:</b><br/>Cooks Choice - Veggie 
END:VEVENT
BEGIN:VEVENT
UID:d803aa31-d3f2-4760-ae2f-8759d0f9261b
SEQUENCE:0
DTSTAMP:20260420T084239
DTSTART;VALUE=DATE:20260512
X-MICROSOFT-CDO-ALLDAYEVENT:TRUE
X-MICROSOFT-MSNCALENDAR-ALLDAYEVENT:TRUE
SUMMARY:Lunch Menu
DESCRIPTION:Beef Burrito<br/>Taco Fixings  ELEM<br/>Black Beans<br/><br/><
 b>Alternate:</b><br/>Chicken Caesar Wrap\, Elem<br/>Twin Cheese Sandwich
END:VEVENT
BEGIN:VEVENT
UID:cee39779-2ca3-4b23-8a74-38810dc28419
SEQUENCE:0
DTSTAMP:20260420T084239
DTSTART;VALUE=DATE:20260513
X-MICROSOFT-CDO-ALLDAYEVENT:TRUE
X-MICROSOFT-MSNCALENDAR-ALLDAYEVENT:TRUE
SUMMARY:Lunch Menu
DESCRIPTION:Crispy Chicken Sandwich<br/>Royal Sauce <br/>Cucumber Slices<b
 r/><br/><b>Alternate:</b><br/>Chicken Caesar Wrap\, Elem<br/>Twin Cheese S
 andwich
END:VEVENT
BEGIN:VEVENT
UID:f9d9559b-4513-4bcc-90e6-dd7d660d1371
SEQUENCE:0
DTSTAMP:20260420T084239
DTSTART;VALUE=DATE:20260514
X-MICROSOFT-CDO-ALLDAYEVENT:TRUE
X-MICROSOFT-MSNCALENDAR-ALLDAYEVENT:TRUE
SUMMARY:Lunch Menu
DESCRIPTION:Swedish Meatballs<br/>Rotini Pasta<br/>Garlic Breadstick<br/>B
 aby Carrots<br/><br/><b>Alternate:</b><br/>Chicken Caesar Wrap\, Elem<br/>
 Twin Cheese Sandwich
END:VEVENT
BEGIN:VEVENT
UID:0fba984e-c1a3-4a86-b8f3-fde514b89695
SEQUENCE:0
DTSTAMP:20260420T084239
DTSTART;VALUE=DATE:20260515
X-MICROSOFT-CDO-ALLDAYEVENT:TRUE
X-MICROSOFT-MSNCALENDAR-ALLDAYEVENT:TRUE
SUMMARY:Lunch Menu
DESCRIPTION:Sloppy Joes<br/>Corn<br/><br/><b>Alternate:</b><br/>Chicken Ca
 esar Wrap\, Elem<br/>Twin Cheese Sandwich
END:VEVENT
BEGIN:VEVENT
UID:27f7cdf6-1e20-49f5-b5f3-e0154baa8209
SEQUENCE:0
DTSTAMP:20260420T084239
DTSTART;VALUE=DATE:20260518
X-MICROSOFT-CDO-ALLDAYEVENT:TRUE
X-MICROSOFT-MSNCALENDAR-ALLDAYEVENT:TRUE
SUMMARY:Lunch Menu
DESCRIPTION:Four Cheese Tortellini<br/>Garlic Breadstick<br/>Italian Side 
 Salad<br/><br/><b>Alternate:</b><br/>Cooks Choice - Veggie 
END:VEVENT
BEGIN:VEVENT
UID:fe77ecc9-93a2-410d-ac56-479a7d610d0f
SEQUENCE:0
DTSTAMP:20260420T084239
DTSTART;VALUE=DATE:20260519
X-MICROSOFT-CDO-ALLDAYEVENT:TRUE
X-MICROSOFT-MSNCALENDAR-ALLDAYEVENT:TRUE
SUMMARY:Lunch Menu
DESCRIPTION:Teriyaki Chicken Drumstick<br/>Brown Rice<br/>Green Beans<br/>
 <br/><b>Alternate:</b><br/>Egg Salad Sandwich<br/>Turkey & Cheese Sandwich
END:VEVENT
END:VCALENDAR